BEGIN:VCALENDAR
VERSION:2.0
PRODID:-//BAISAE - ECPv6.15.11//NONSGML v1.0//EN
CALSCALE:GREGORIAN
METHOD:PUBLISH
X-ORIGINAL-URL:https://baisae.org.mx
X-WR-CALDESC:Eventos para BAISAE
REFRESH-INTERVAL;VALUE=DURATION:PT1H
X-Robots-Tag:noindex
X-PUBLISHED-TTL:PT1H
BEGIN:VTIMEZONE
TZID:America/Phoenix
BEGIN:STANDARD
TZOFFSETFROM:-0700
TZOFFSETTO:-0700
TZNAME:MST
DTSTART:20200101T000000
END:STANDARD
END:VTIMEZONE
BEGIN:VEVENT
DTSTART;TZID=America/Phoenix:20210302T143000
DTEND;TZID=America/Phoenix:20210302T153000
DTSTAMP:20260414T045041
CREATED:20210224T001502Z
LAST-MODIFIED:20210224T001502Z
UID:683-1614695400-1614699000@baisae.org.mx
SUMMARY:Plática: "Guía para días más productivos"
DESCRIPTION:Baisae A.C. te invita a la plática: “Guía para días más productivos” la cual será impartida por la ponente Kharely Guadalupe Mascareño Fiel. \nLa cita será este martes 02 de marzo de 2021 en punto de las 02:30 pm a través de la plataforma zoom. \nClic para acceder a la sala de zoom—> \nID de reunión: 845 7632 0220 \nCódigo de acceso: 829359 \nEste taller forma parte de las actividades formativas dirigidas a todos los becados de Baisae A.C.
URL:https://baisae.org.mx/eventos/platica-guia-para-dias-mas-productivos/
LOCATION:Virtual
ATTACH;FMTTYPE=image/jpeg:https://baisae.org.mx/wp-content/uploads/2021/02/guia-dias-mas-productivos.jpeg
END:VEVENT
END:VCALENDAR